BEGIN:VCALENDAR
VERSION:2.0
PRODID:-//wp-events-plugin.com//7.2.3.1//EN
TZID:Europe/Berlin
X-WR-TIMEZONE:Europe/Berlin
BEGIN:VEVENT
UID:427@saxeed.net
DTSTART;TZID=Europe/Berlin:20260720T173000
DTEND;TZID=Europe/Berlin:20260720T200000
DTSTAMP:20260319T143305Z
URL:https://www.saxeed.net/veranstaltungen/gruendungslounge/
SUMMARY:Gründungslounge
DESCRIPTION:Gründungslounge\n\nLerne die aktuellen Gründerinnen und Grün
 der der TUBAF kennen\, in entspannter Atmosphäre und über den Dächern F
 reibergs.\n\nDetails\nDatum: Montag\, 20.07.2026\nUhrzeit: 17:30 - 20:00 U
 hr\nOrt:\nAgricolastraße 10a\n09599 Freiberg\n\nAnmeldung\nDie Anzahl der
  Plätze ist limitiert. Sichere Dir jetzt Deinen Platz!\nLöse die untenst
 ehende Aufgabe und melde Dich an.\nDie Teilnahme ist kostenlos. Bitte vers
 tehe die Anmeldung als verbindlich.\nSolltest Du verhindert sein\, informi
 ere uns bitte rechtzeitig.\n\n&nbsp\;
ATTACH;FMTTYPE=image/jpeg:https://www.saxeed.net/wp-content/uploads/2026/0
 3/Freiberg-Events-3.jpg
CATEGORIES:Event
LOCATION:Universitätsbibliothek\, Winklerstr. 3\, Freiberg\, Sachsen\, 095
 99\, Deutschland
X-APPLE-STRUCTURED-LOCATION;VALUE=URI;X-ADDRESS=Winklerstr. 3\, Freiberg\, 
 Sachsen\, 09599\, Deutschland;X-APPLE-RADIUS=100;X-TITLE=Universitätsbibl
 iothek:geo:0,0
END:VEVENT
BEGIN:VTIMEZONE
TZID:Europe/Berlin
X-LIC-LOCATION:Europe/Berlin
BEGIN:DAYLIGHT
DTSTART:20260329T030000
TZOFFSETFROM:+0100
TZOFFSETTO:+0200
TZNAME:CEST
END:DAYLIGHT
END:VTIMEZONE
END:VCALENDAR