BEGIN:VCALENDAR
VERSION:2.0
PRODID:-//wp-events-plugin.com//7.2.3.1//EN
TZID:Europe/Berlin
X-WR-TIMEZONE:Europe/Berlin
BEGIN:VEVENT
UID:453@saxeed.net
DTSTART;TZID=Europe/Berlin:20260421T180000
DTEND;TZID=Europe/Berlin:20260421T200000
DTSTAMP:20260416T143224Z
URL:https://www.saxeed.net/veranstaltungen/ideabeer-dein-ideenworkshop/
SUMMARY:Idea&Beer - Dein Ideenworkshop
DESCRIPTION:Idea&amp\;Beer - Dein Ideenworkshop (Präsenz)\n\nIdeen spinnen
 \, ins Gespräch kommen – und dabei ein kühles Getränk genießen\nDu h
 ast Lust\, kreativ zu werden – ganz ohne Leistungsdruck? Beim Idea &amp\
 ; Beer entwickelst du gemeinsam mit anderen erste Ideen und lernst einfach
 e Methoden kennen\, wie aus Alltagsbeobachtungen spannende Lösungsansätz
 e entstehen\nkönnen. Ganz egal\, ob du schon eine Idee hast oder einfach 
 neugierig bist: Hier zählt der Spaß am Mitmachen. Und das Beste: Es gibt
  kalte Getränke und gute Gespräche gleich dazu.\n\nDetails\nDatum: Diens
 tag\, 21.04.2026\nUhrzeit: 18:00 - 20:00 Uhr\nOrt: Hochschule Mittweida Ha
 us 6\nStudio B\nAm Schwanenteich 4b\n09648 Mittweida\n\nAnmeldung\nDie Anz
 ahl der Plätze ist limitiert. Sichere Dir jetzt Deinen Platz!\nLöse die 
 untenstehende Aufgabe und melde Dich an.\nDie Teilnahme ist kostenlos. Bit
 te verstehe die Anmeldung als verbindlich.\nSolltest Du verhindert sein\, 
 informiere uns bitte rechtzeitig.
ATTACH;FMTTYPE=image/jpeg:https://www.saxeed.net/wp-content/uploads/2026/0
 3/Idea-Beer-Webseite-Plakat.jpg
CATEGORIES:Event
LOCATION:HS Mittweida Haus 6 Studio B\, Am Schwanenteich 4b\, Mittweida\, 0
 9648\, Deutschland
X-APPLE-STRUCTURED-LOCATION;VALUE=URI;X-ADDRESS=Am Schwanenteich 4b\, Mittw
 eida\, 09648\, Deutschland;X-APPLE-RADIUS=100;X-TITLE=HS Mittweida Haus 6 
 Studio B:geo:0,0
END:VEVENT
BEGIN:VTIMEZONE
TZID:Europe/Berlin
X-LIC-LOCATION:Europe/Berlin
BEGIN:DAYLIGHT
DTSTART:20260329T030000
TZOFFSETFROM:+0100
TZOFFSETTO:+0200
TZNAME:CEST
END:DAYLIGHT
END:VTIMEZONE
END:VCALENDAR