BEGIN:VCALENDAR
VERSION:2.0
PRODID:-//wp-events-plugin.com//7.2.3.1//EN
TZID:Europe/Berlin
X-WR-TIMEZONE:Europe/Berlin
BEGIN:VEVENT
UID:426@saxeed.net
DTSTART;TZID=Europe/Berlin:20260629T173000
DTEND;TZID=Europe/Berlin:20260629T200000
DTSTAMP:20260310T095110Z
URL:https://www.saxeed.net/veranstaltungen/pitch-ss26/
SUMMARY:Pitch Night 2026
DESCRIPTION:Pitch Night\n\nIm Mittelpunkt des Abends stehen Wissenschaftler
 :innen\, Studierende und Gründungsteams\, die ein erstes Feedback zu ihre
 r Idee einholen möchten oder auf der Suche nach weiteren Teammitgliedern 
 sind.\nDazu werden diese Teams ihre Idee in 3-minütigen Pitches vorstelle
 n. Aber auch Gründungsinteressierte können nach vorn kommen und erzähle
 n\, warum sie die beste Co-Gründerin / der beste Co-Gründer sind und wel
 che Fähigkeiten sie mitbringen.\nDen Rahmen bildet ein sommerlicher Grill
 abend mit kühlen Getränken\, bei dem Ihr euch kennenlernen und vernetzen
  könnt. Wir\, das Team von SAXEED\, sind natürlich auch dabei.\nEgal ob 
 Du erfahrene Gründerin oder Gründer bist\, eine Idee hast und nach Mitst
 reitern suchst oder Dich gern in einem Gründungsprojekt einbringen möcht
 est\, vorbeikommen lohnt sich!\n\nDetails\nDatum: Montag\, 29.06.2026\nUhr
 zeit: 17:30 - 20:00 Uhr\nOrt: Neue Mensa/ Sonnensegel\n09599 Freiberg\n\nA
 nmeldung\nDie Anzahl der Plätze ist limitiert. Sichere Dir jetzt Deinen P
 latz!\nLöse die untenstehende Aufgabe und melde Dich an.\nDie Teilnahme i
 st kostenlos. Bitte verstehe die Anmeldung als verbindlich.\nSolltest Du v
 erhindert sein\, informiere uns bitte rechtzeitig.
ATTACH;FMTTYPE=image/jpeg:https://www.saxeed.net/wp-content/uploads/2026/0
 3/Freiberg-Events-2.jpg
CATEGORIES:Event
LOCATION:Sonnensegel Neue Mensa der TUBAF\, Agricolastraße 10a\, Freiberg\
 , 09599\, Deutschland
X-APPLE-STRUCTURED-LOCATION;VALUE=URI;X-ADDRESS=Agricolastraße 10a\, Freib
 erg\, 09599\, Deutschland;X-APPLE-RADIUS=100;X-TITLE=Sonnensegel Neue Mens
 a der TUBAF:geo:0,0
END:VEVENT
BEGIN:VTIMEZONE
TZID:Europe/Berlin
X-LIC-LOCATION:Europe/Berlin
BEGIN:DAYLIGHT
DTSTART:20260329T030000
TZOFFSETFROM:+0100
TZOFFSETTO:+0200
TZNAME:CEST
END:DAYLIGHT
END:VTIMEZONE
END:VCALENDAR