BEGIN:VCALENDAR
VERSION:2.0
PRODID:-//wp-events-plugin.com//7.2.3.1//EN
TZID:Europe/Berlin
X-WR-TIMEZONE:Europe/Berlin
BEGIN:VEVENT
UID:405@saxeed.net
DTSTART;TZID=Europe/Berlin:20251118T163000
DTEND;TZID=Europe/Berlin:20251118T183000
DTSTAMP:20251117T132554Z
URL:https://www.saxeed.net/veranstaltungen/saxeed-interview-startup-date-m
 it-flixbus-public-viewing-event-in-zwickau/
SUMMARY:SAXEED-Interview: Startup Date mit FlixBus - Public Viewing Event i
 n Zwickau
DESCRIPTION:SAXEED-Interview: Startup Date mit FlixBus - Public Viewing Eve
 nt in Zwickau (Präsenz)\n\nLive-Online-Format als PublicViewing-Event in 
 Zwickau!\n\nInspirierende Einblicke\, ehrliche Erfahrungen und spannende G
 ründerstories – live und hautnah!\n\nWir freuen uns\, Ihnen unseren nä
 chsten Gast in der SAXEED-Interviewreihe vorzustellen: Daniel Krauss\, Gr
 ünder und Visionär hinter FlixBus. Das deutsche Unternehmen trat 2011 mi
 t der Vision an\, Reisen bequemer\, flexibler und bezahlbarer zu machen. I
 nzwischen ist daraus eine Erfolgsstory geworden\, mit 3000 Mitarbeitenden 
 weltweit in 17 Ländern. Bei den deutschlandweiten Startup-Dates spricht D
 aniel über seinen Weg als Unternehmensgründer – offen\, persönlich un
 d praxisnah.\n\nErlebe das Online-Interview in entspannter Atmosphäre gem
 einsam mit anderen Gründungsinteressierten in Zwickau!\n\n&nbsp\;\n\nDeta
 ils\nDatum: Dienstag\, 18.11.2025\nUhrzeit: 16:30 - 18:30 Uhr\nOrt: Wests
 ächsische Hochschule Zwickau\, Campus Innenstadt\, KEP101\n\nAnmeldung\nD
 ie Anzahl der Plätze ist limitiert. Sichere Dir jetzt Deinen Platz!\nLös
 e die untenstehende Aufgabe und melde Dich an.\nDie Teilnahme ist kostenlo
 s. Bitte verstehe die Anmeldung als verbindlich.\nSolltest Du verhindert s
 ein\, informiere uns bitte rechtzeitig.\n\n&nbsp\;
ATTACH;FMTTYPE=image/jpeg:https://www.saxeed.net/wp-content/uploads/2025/0
 9/Startup-Date-3.jpg
CATEGORIES:Event
LOCATION:Westsächsische Hochschule Zwickau\, Keplerstr. 1\, Zwickau\, Deut
 schland
X-APPLE-STRUCTURED-LOCATION;VALUE=URI;X-ADDRESS=Keplerstr. 1\, Zwickau\, De
 utschland;X-APPLE-RADIUS=100;X-TITLE=Westsächsische Hochschule Zwickau:ge
 o:0,0
END:VEVENT
BEGIN:VTIMEZONE
TZID:Europe/Berlin
X-LIC-LOCATION:Europe/Berlin
BEGIN:STANDARD
DTSTART:20251026T020000
TZOFFSETFROM:+0200
TZOFFSETTO:+0100
TZNAME:CET
END:STANDARD
END:VTIMEZONE
END:VCALENDAR