BEGIN:VCALENDAR
VERSION:2.0
PRODID:-//wp-events-plugin.com//7.2.3.1//EN
TZID:Europe/Berlin
X-WR-TIMEZONE:Europe/Berlin
BEGIN:VEVENT
UID:454@saxeed.net
DTSTART;TZID=Europe/Berlin:20260424T133000
DTEND;TZID=Europe/Berlin:20260424T173000
DTSTAMP:20260402T134539Z
URL:https://www.saxeed.net/veranstaltungen/souveraenitaet-als-gruenderin-s
 elbstbewusstsein-unternehmerinnenmindset/
SUMMARY:Souverän entscheiden\, erfolgreich führen – Mindset für untern
 ehmerische Stärke
DESCRIPTION:Souverän entscheiden\, erfolgreich führen - Mindset für unte
 rnehmerische Stärke (Präsenz)\n\nDieser Workshop vermittelt Klarheit\, S
 icherheit und Werkzeuge\, um Deine unternehmerische Rolle selbstbewusster 
 und souveräner auszufüllen.\n\nWorkshop-Inhalte:\n\n 	Steuern statt getr
 ieben werden\nUnternehmerisch denken und handeln\, raus aus dem reinen Rea
 gieren im Tagesgeschäft.\n 	Klartext statt Missverständnisse\nEntscheide
 nd ist nicht\, was gemeint ist\, sondern was ankommt.\n 	Verhandlungen sou
 verän vorbereiten\nStruktur\, Haltung und Klarheit als Basis für erfolgr
 eiche\nGespräche.\n 	Rollen im Unternehmertum\n\nDas eigene Unternehmen b
 ewusst „orchestrieren“\, statt überall gleichzeitig mitzuspielen.\n\n
 Unser Referent Uwe Bauer freut sich auf Deine Anmeldung!\n\n&nbsp\;\n\nInf
 ormationen zum Referenten:\nUwe Bauer ist Unternehmer\, ehemaliger CEO der
  KOMSA AG und  der aetka AG. Über zwei Jahrzehnte führte er die Unterne
 hmen durch Transformation\, Digitalisierung und komplexe Krisen. Heute tei
 lt er seine Erfahrung als Speaker.\nIn seinen Impulsen zeigt er praxisnah\
 , wie Klarheit\, Entscheidungsstärke und innere Haltung zur Grundlage nac
 hhaltigen unternehmerischen Erfolgs werden.\n\nTeilnahmebestätigung:\nBei
  erfolgreicher Teilnahme erhältst Du nach Kursende eine Teilnahmebestäti
 gung per E-Mail.\n\nDetails:\nDatum: Freitag\, 24.04.2026\nUhrzeit: 13:30 
 - 17:30 Uhr\nOrt: Hochschule Mittweida Haus 39/ Raum 39-301\nBahnhofstraß
 e 15\n09648 Mittweida\n\nAnmeldung\nDie Anzahl der Plätze ist limitiert. 
 Sichere Dir jetzt Deinen Platz!\nLöse die untenstehende Aufgabe und melde
  Dich an.\nDie Teilnahme ist kostenlos. Bitte verstehe die Anmeldung als v
 erbindlich.\nSolltest Du verhindert sein\, informiere uns bitte rechtzeiti
 g.
ATTACH;FMTTYPE=image/jpeg:https://www.saxeed.net/wp-content/uploads/2026/0
 3/24.04Mittweida-2.jpg
CATEGORIES:Workshop - deutsch
LOCATION:Hochschule Mittweida Haus 39/ Raum 39-301\, Bahnhofstraße 15 \, M
 ittweida\, Sachsen\, 09648 \, Deutschland
X-APPLE-STRUCTURED-LOCATION;VALUE=URI;X-ADDRESS=Bahnhofstraße 15 \, Mittwe
 ida\, Sachsen\, 09648 \, Deutschland;X-APPLE-RADIUS=100;X-TITLE=Hochschule
  Mittweida Haus 39/ Raum 39-301:geo:0,0
END:VEVENT
BEGIN:VTIMEZONE
TZID:Europe/Berlin
X-LIC-LOCATION:Europe/Berlin
BEGIN:DAYLIGHT
DTSTART:20260329T030000
TZOFFSETFROM:+0100
TZOFFSETTO:+0200
TZNAME:CEST
END:DAYLIGHT
END:VTIMEZONE
END:VCALENDAR